BEGIN:VCALENDAR
VERSION:2.0
METHOD:PUBLISH
BEGIN:VEVENT
DTSTART:20250410T120000
DTEND:20250410T150000
LOCATION:Pomorski Park Naukowo-Technologiczny Gdynia, Strefa Startup, budynek III, piętro I al. Zwycięstwa 96/98  Gdynia
TRANSP: OPAQUE
SEQUENCE:0
UID:
DTSTAMP:20260423T195425Z
SUMMARY:warsztaty Design Management | Pomorskie Spotkania Piwowarów V - nowe otwarcie!
DESCRIPTION:Kiedy: 10.04.2025 godz. 12:00-15:00Gdzie: Pomorski Park Naukowo-Technologiczny, bud. II, sala koralowaWstęp: płatnyPPNT Gdynia | Bio Laboratorium oraz firma SoBrewery - Solutions for breweries......
URL:https://app.evenea.pl/event/konsultacjeeksperackie1psp2025/
PRIORITY:1
CLASS:PUBLIC
END:VEVENT
END:VCALENDAR
