BEGIN:VCALENDAR
VERSION:2.0
METHOD:PUBLISH
BEGIN:VEVENT
DTSTART:20250410T090000
DTEND:20250410T120000
LOCATION:Pomorski Park Naukowo-Technologiczny Gdynia, Bio Laboratorium, budynek I, piętro II al. Zwycięstwa 96/98  Gdynia
TRANSP: OPAQUE
SEQUENCE:0
UID:
DTSTAMP:20260423T192543Z
SUMMARY:Konsultacje eksperckie z analizy chemicznej piwa | Pomorskie Spotkania Piwowarów V - nowe otwarcie!
DESCRIPTION:Kiedy: 10.04.2025 godz. 9:00-12:00Gdzie: Pomorski Park Naukowo-Technologiczny, Bio Laboratorium, budynek I, piętro IIWstęp: płatnyPPNT Gdynia | Bio Laboratorium oraz firma SoBrewery - Solutions......
URL:https://app.evenea.pl/event/konsultacjeeksperackiepsp2025/
PRIORITY:1
CLASS:PUBLIC
END:VEVENT
END:VCALENDAR
