BEGIN:VCALENDAR
VERSION:2.0
METHOD:PUBLISH
BEGIN:VEVENT
DTSTART:20211110T160000
DTEND:20211124T170000
LOCATION:konsultacje telefoniczne   
TRANSP: OPAQUE
SEQUENCE:0
UID:
DTSTAMP:20260420T061724Z
SUMMARY:Start działalności gospodarczej - indywidualne konsultacje księgowe
DESCRIPTION:Ekspert udzieli konsultacji w dziedzinach:form prowadzenia działalności gospodarczej,planowania podatków,opłat ZUS i US.Termin indywidualnych konsultacji: 10 i 24 listopada.Ekspert:Beata Rogala......
URL:https://app.evenea.pl/event/konsultacjeksiegowelistopad/
PRIORITY:1
CLASS:PUBLIC
END:VEVENT
END:VCALENDAR
