BEGIN:VCALENDAR
VERSION:2.0
METHOD:PUBLISH
BEGIN:VEVENT
DTSTART:20250311T083000
DTEND:20250311T093000
LOCATION:online   
TRANSP: OPAQUE
SEQUENCE:0
UID:
DTSTAMP:20260419T210028Z
SUMMARY:Konsultacje księgowe dla startujących przedsiębiorców
DESCRIPTION:Podczas konsultacji będziesz mógł omówić kluczowe aspekty podatkowe i księgowe od rejestracji działalności gospodarczej po zagadnienia związane z bieżącymi rozliczeniami podatkowym.......
URL:https://app.evenea.pl/event/konsultacjeksiegowemarzec25/
PRIORITY:1
CLASS:PUBLIC
END:VEVENT
END:VCALENDAR
