BEGIN:VCALENDAR
VERSION:2.0
METHOD:PUBLISH
BEGIN:VEVENT
DTSTART:20210804T170000
DTEND:20210825T180000
LOCATION:konsultacje telefoniczne   
TRANSP: OPAQUE
SEQUENCE:0
UID:
DTSTAMP:20260420T013933Z
SUMMARY:Start działalności gospodarczej - indywidualne konsultacje księgowe
DESCRIPTION:Ekspert udzieli konsultacji w dziedzinach:form prowadzenia działalności gospodarczej,planowania podatków,opłat ZUS i US.Termin indywidualnych konsultacji: 4,11 i 25 sierpnia.Ekspert:Beata......
URL:https://app.evenea.pl/event/konsultacjeksiegowesierpien/
PRIORITY:1
CLASS:PUBLIC
END:VEVENT
END:VCALENDAR
