BEGIN:VCALENDAR
VERSION:2.0
METHOD:PUBLISH
BEGIN:VEVENT
DTSTART:20210908T170000
DTEND:20210915T180000
LOCATION:konsultacje telefoniczne   
TRANSP: OPAQUE
SEQUENCE:0
UID:
DTSTAMP:20260420T062505Z
SUMMARY:Start działalności gospodarczej - indywidualne konsultacje księgowe
DESCRIPTION:Ekspert udzieli konsultacji w dziedzinach:form prowadzenia działalności gospodarczej,planowania podatków,opłat ZUS i US.Termin indywidualnych konsultacji: 8 i 15 września.Ekspert:Beata Rogala......
URL:https://app.evenea.pl/event/konsultacjeksiegowewrzesien/
PRIORITY:1
CLASS:PUBLIC
END:VEVENT
END:VCALENDAR
