BEGIN:VCALENDAR
VERSION:2.0
METHOD:PUBLISH
BEGIN:VEVENT
DTSTART:20220321T090000
DTEND:20220428T090000
LOCATION:Online   
TRANSP: OPAQUE
SEQUENCE:0
UID:
DTSTAMP:20260420T081454Z
SUMMARY:Konsultacje prawne dla startupów - Polski Ład 2022
DESCRIPTION:ENGLISH BELOWNie wiesz którą stawkę VAT zapłacić, jakie warto stworzyć i podpisać umowy ze wspólnikami, które zakupy wpisać jako koszty prowadzenia przedsiębiorstwa? Przyjdź ze swoimi......
URL:https://app.evenea.pl/event/konsultacjeprawnestartupykwiecien/
PRIORITY:1
CLASS:PUBLIC
END:VEVENT
END:VCALENDAR
