BEGIN:VCALENDAR
VERSION:2.0
METHOD:PUBLISH
BEGIN:VEVENT
DTSTART:20230202T090000
DTEND:20230209T100000
LOCATION:Online   
TRANSP: OPAQUE
SEQUENCE:0
UID:
DTSTAMP:20260424T215336Z
SUMMARY:Konsultacje prawne dla startupów
DESCRIPTION:ENGLISH BELOWNie wiesz którą stawkę VAT zapłacić, jakie warto stworzyć i podpisać umowy ze wspólnikami, które zakupy wpisać jako koszty prowadzenia przedsiębiorstwa? Przyjdź ze swoimi......
URL:https://app.evenea.pl/event/konsultacjeprawnestartupyluty2023/
PRIORITY:1
CLASS:PUBLIC
END:VEVENT
END:VCALENDAR
