BEGIN:VCALENDAR
VERSION:2.0
METHOD:PUBLISH
BEGIN:VEVENT
DTSTART:20221006T090000
DTEND:20221020T100000
LOCATION:Online   
TRANSP: OPAQUE
SEQUENCE:0
UID:
DTSTAMP:20260420T100534Z
SUMMARY:Konsultacje prawne dla startupów - Polski Ład 2022
DESCRIPTION:ENGLISH BELOWNie wiesz którą stawkę VAT zapłacić, jakie warto stworzyć i podpisać umowy ze wspólnikami, które zakupy wpisać jako koszty prowadzenia przedsiębiorstwa? Przyjdź ze swoimi......
URL:https://app.evenea.pl/event/konsultacjeprawnestartupypazdziernik/
PRIORITY:1
CLASS:PUBLIC
END:VEVENT
END:VCALENDAR
