BEGIN:VCALENDAR
VERSION:2.0
METHOD:PUBLISH
BEGIN:VEVENT
DTSTART:20250508T120000
DTEND:20250508T150000
LOCATION:Dąbrowski Inkubator Przedsiębiorczości (budynek dworca PKP) Kolejowa 3  Dąbrowa Górnicza
TRANSP: OPAQUE
SEQUENCE:0
UID:
DTSTAMP:20260420T182504Z
SUMMARY:08.05 Bezpłatne konsultacje ze Śląskim Funduszem Rozwoju - pozyskanie dofinansowania na rozwój biznesu
DESCRIPTION:W czwartek, 8 maja zapraszamy od godz. 12:00 do siedziby DIP ul. Kolejowa 3, na bezpłatne konsultacje z ekspertką Śląskiego Funduszu Rozwoju. Konsultacje mają na celu wsparcie przyszłych i......
URL:https://app.evenea.pl/event/konsultacjesfr/
PRIORITY:1
CLASS:PUBLIC
END:VEVENT
END:VCALENDAR
