BEGIN:VCALENDAR
VERSION:2.0
METHOD:PUBLISH
BEGIN:VEVENT
DTSTART:20250814T120000
DTEND:20250814T153000
LOCATION:Dąbrowski Inkubator Przedsiębiorczości (budynek dworca PKP) Kolejowa 3  Dąbrowa Górnicza
TRANSP: OPAQUE
SEQUENCE:0
UID:
DTSTAMP:20260420T181434Z
SUMMARY:14.08 Bezpłatne konsultacje ze Śląskim Funduszem Rozwoju
DESCRIPTION:W czwartek, 14 sierpnia zapraszamy od godz. 12:00 do siedziby DIP ul. Kolejowa 3, na bezpłatne konsultacje z ekspertką Śląskiego Funduszu Rozwoju.Konsultacje mają na celu wsparcie przyszłych......
URL:https://app.evenea.pl/event/konsultacjesfrsierpien/
PRIORITY:1
CLASS:PUBLIC
END:VEVENT
END:VCALENDAR
