BEGIN:VCALENDAR
VERSION:2.0
METHOD:PUBLISH
BEGIN:VEVENT
DTSTART:20250911T120000
DTEND:20250911T153000
LOCATION:Dąbrowski Inkubator Przedsiębiorczości (budynek dworca PKP) Kolejowa 3  Dąbrowa Górnicza
TRANSP: OPAQUE
SEQUENCE:0
UID:
DTSTAMP:20260420T182239Z
SUMMARY:11.09 Bezpłatne konsultacje ze Śląskim Funduszem Rozwoju
DESCRIPTION:Śląski Fundusz Rozwoju Sp. z.o.o. zaprasza na cykliczne, bezpłatne konsultacje realizowane w ramach projektu "Śląska Sieć Innowacji". Dla kogo są konsultacje? Dla mikro, małych i średnich......
URL:https://app.evenea.pl/event/konsultacjesfrwrzesien/
PRIORITY:1
CLASS:PUBLIC
END:VEVENT
END:VCALENDAR
