BEGIN:VCALENDAR
VERSION:2.0
METHOD:PUBLISH
BEGIN:VEVENT
DTSTART:20241022T100000
DTEND:20241022T110000
LOCATION:online   
TRANSP: OPAQUE
SEQUENCE:0
UID:
DTSTAMP:20260419T205858Z
SUMMARY:Tworzenie procesów sprzedażowych w młodej firmie - konsultacje online
DESCRIPTION:Zapraszamy na konsultacje online pt. Tworzenie procesów sprzedażowych w młodej firmie.Spotkanie skierowane jest do właścicieli małych firm, startupów i przedsiębiorców, którzy chcą......
URL:https://app.evenea.pl/event/konsultacjesprzedaz/
PRIORITY:1
CLASS:PUBLIC
END:VEVENT
END:VCALENDAR
