BEGIN:VCALENDAR
VERSION:2.0
METHOD:PUBLISH
BEGIN:VEVENT
DTSTART:20250314T150000
DTEND:20250314T160000
LOCATION:online   
TRANSP: OPAQUE
SEQUENCE:0
UID:
DTSTAMP:20260419T210005Z
SUMMARY:Rozwój projektu i finansowanie na rynku USA - konsultacje online
DESCRIPTION:Chcesz rozwinąć swój projekt na rynku amerykańskim, ale brakuje Ci strategii lub finansowania? Dołącz do indywidualnych konsultacji z Grzegorzem Dobroskokiem - doświadczonym przedsiębiorcą......
URL:https://app.evenea.pl/event/konsultacjeusamarzec25/
PRIORITY:1
CLASS:PUBLIC
END:VEVENT
END:VCALENDAR
