BEGIN:VCALENDAR
VERSION:2.0
METHOD:PUBLISH
BEGIN:VEVENT
DTSTART:20191014T180000
DTEND:20191014T200000
LOCATION:Lubelskie Centrum Konferencyjne Ul. Grottgera 2  Lublin
TRANSP: OPAQUE
SEQUENCE:0
UID:
DTSTAMP:20260422T175952Z
SUMMARY:Kontynenty #45: Michał Woroch | Agnieszka Pajączkowska
DESCRIPTION:Cześć!Zapraszamy do darmowej rezerwacji miejsc na 45. Kontynenty! W programie 45. Kontynentów:18:00 Wheelchairtrip. 371 dni z Ziemi Ognistej na AlaskęZ samego południa z Ziemi Ognistej przez......
URL:https://app.evenea.pl/event/kontynenty45/
PRIORITY:1
CLASS:PUBLIC
END:VEVENT
END:VCALENDAR
