BEGIN:VCALENDAR
VERSION:2.0
METHOD:PUBLISH
BEGIN:VEVENT
DTSTART:20240423T170000
DTEND:20240423T180000
LOCATION:Centrum Edukacji i Wsparcia os. Górali 24  Kraków
TRANSP: OPAQUE
SEQUENCE:0
UID:
DTSTAMP:20260423T050305Z
SUMMARY:Easy English Talks - konwersacje z języka angielskiego (poziom A2/B1) | Easy English Talks - English Conversation (level A2/B1) | Easy English Talks - Розмовна англійська (рівень A2/B1)
DESCRIPTION:Grupa wiekowa: dla wszystkichPL | Chciałbyś swobodnie porozumiewać się po angielsku na poziomie A2? Świetna wiadomość - mamy dla Ciebie idealne rozwiązanie! W trakcie spotkań będziemy......
URL:https://app.evenea.pl/event/konwersacjeeng12304/
PRIORITY:1
CLASS:PUBLIC
END:VEVENT
END:VCALENDAR
