BEGIN:VCALENDAR
VERSION:2.0
METHOD:PUBLISH
BEGIN:VEVENT
DTSTART:20240416T150000
DTEND:20240416T160000
LOCATION:Centrum Edukacji i Wsparcia os. Górali 24  Kraków
TRANSP: OPAQUE
SEQUENCE:0
UID:
DTSTAMP:20260423T050248Z
SUMMARY:Konwersacje z języka angielskiego (poziom A2) | English Conversation (level A2) | Розмовна англійська (рівень A2)
DESCRIPTION:Grupa wiekowa: dla wszystkichPL | Grupa dedykowana jest dla osób dorosłych, które chcą w praktyce przećwiczyć rozmówki na poziomie około A2. W trakcie spotkań będziemy skupiać się na......
URL:https://app.evenea.pl/event/konwersacjeeng1604/
PRIORITY:1
CLASS:PUBLIC
END:VEVENT
END:VCALENDAR
