BEGIN:VCALENDAR
VERSION:2.0
METHOD:PUBLISH
BEGIN:VEVENT
DTSTART:20240425T150000
DTEND:20240425T163000
LOCATION:Centrum Edukacji i Wsparcia os. Górali 24  Kraków
TRANSP: OPAQUE
SEQUENCE:0
UID:
DTSTAMP:20260423T053614Z
SUMMARY:Moc rozmów! - konwersacje w  języku polskim (poziom A2) | The power of conversation! - polish speaking club (A2 level) | Сила розмови! - розмови польською мовою (рівень А2)
DESCRIPTION:Grupa wiekowa: dla wszystkichPL | Nasze konwersacje to możliwość poznania mocy rozmów i języka, w tym:swobodna atmosfery sprzyjającej rozmowiemożliwości praktykowania języka......
URL:https://app.evenea.pl/event/konwersacjepol12504/
PRIORITY:1
CLASS:PUBLIC
END:VEVENT
END:VCALENDAR
