BEGIN:VCALENDAR
VERSION:2.0
METHOD:PUBLISH
BEGIN:VEVENT
DTSTART:20240926T180000
DTEND:20240926T210000
LOCATION:Brain Embassy Czackiego 15/17  Warszawa
TRANSP: OPAQUE
SEQUENCE:0
UID:
DTSTAMP:20260422T131401Z
SUMMARY:Korki z neuroróżnorodności #1 | ŻYCIE Z ADHD
DESCRIPTION:Neuroróżnorodność to temat, o którym nikt nie uczył nas w szkole, a dotyczy nas wszystkich, dlatego czas nadrobić zaległości.Korki z neuroróżnorodności to bezpłatne spotkania dla......
URL:https://app.evenea.pl/event/korkizneuroroznorodnosci1/
PRIORITY:1
CLASS:PUBLIC
END:VEVENT
END:VCALENDAR
