BEGIN:VCALENDAR
VERSION:2.0
METHOD:PUBLISH
BEGIN:VEVENT
DTSTART:20241129T180000
DTEND:20241129T180000
LOCATION:Biblioteka Publiczna w Piasecznie Jana Pawła II 55  Piaseczno
TRANSP: OPAQUE
SEQUENCE:0
UID:
DTSTAMP:20260422T193437Z
SUMMARY:Spotkanie autorskie z Filipem Kosiorem
DESCRIPTION:Serdecznie zapraszamy na spotkanie autorskie z Filipem Kosiorem, które odbędzie się 29 listopada 2024 roku o godzinie 18.00 w sali widowiskowej Biblioteki Głównej (ul. Jana Pawła II 55,......
URL:https://app.evenea.pl/event/kosiorwpiasecznie/
PRIORITY:1
CLASS:PUBLIC
END:VEVENT
END:VCALENDAR
