BEGIN:VCALENDAR
VERSION:2.0
METHOD:PUBLISH
BEGIN:VEVENT
DTSTART:20260425T100000
DTEND:20260425T180000
LOCATION:Hala Pomp (Muzeum Wodociągów) Gdańskiej 242  Bydgoszcz
TRANSP: OPAQUE
SEQUENCE:0
UID:
DTSTAMP:20260419T202019Z
SUMMARY:4. Ogólnopolska Konferencja Kosmetologii Leczniczej i Estetycznej
DESCRIPTION:Serce Kosmetologii bije w Bydgoszczy!Zapraszamy Państwa do udziału w czwartej edycji Ogólnopolskiej Konferencji Kosmetologii Leczniczej i Estetycznej Wyższej Szkoły Nauk o Zdrowiu!......
URL:https://app.evenea.pl/event/kosmetologia2026/
PRIORITY:1
CLASS:PUBLIC
END:VEVENT
END:VCALENDAR
