BEGIN:VCALENDAR
VERSION:2.0
METHOD:PUBLISH
BEGIN:VEVENT
DTSTART:20250527T160000
DTEND:20250527T200000
LOCATION:Hotel Szyndzielnia & tereny otwarte ZIAD Bielsko-Biała S.A. Al. Armii Krajowej 220  43-300 Bielsko-Biała
TRANSP: OPAQUE
SEQUENCE:0
UID:
DTSTAMP:20260424T160504Z
SUMMARY:III Turniej o Puchar Prezesa BIG w boule & spotkanie Klubu Przedsiębiorcy | Bielsko-Biała, 27 maja 2025 r.
DESCRIPTION:Beskidzka Izba Gospodarcza ma przyjemność zaprosić Państwa do udziału w kolejnym spotkaniu Członków i Sympatyków Izby w ramach Klubu Przedsiębiorcy, które odbędzie się w dniu 27 maja......
URL:https://app.evenea.pl/event/kp052025/
PRIORITY:1
CLASS:PUBLIC
END:VEVENT
END:VCALENDAR
