BEGIN:VCALENDAR
VERSION:2.0
METHOD:PUBLISH
BEGIN:VEVENT
DTSTART:20260112T170000
DTEND:20260112T170000
LOCATION:Tarnogórskie Centrum Kultury Jana III Sobieskiego, 7  Tarnowskie Góry
TRANSP: OPAQUE
SEQUENCE:0
UID:
DTSTAMP:20260421T091302Z
SUMMARY:Klub Przedsiębiorczych Mam Tarnowskie Góry - 12.01.2026
DESCRIPTION:🔹 Cały dochód ze sprzedaży wejściówek-cegiełek zostanie przeznaczony na rozwój Klubu Przedsiębiorczych Mam, by wspierać kolejne Kobiety, które pragną łączyć pracę z......
URL:https://app.evenea.pl/event/kpmtarnowskiegory202601/
PRIORITY:1
CLASS:PUBLIC
END:VEVENT
END:VCALENDAR
