BEGIN:VCALENDAR
VERSION:2.0
METHOD:PUBLISH
BEGIN:VEVENT
DTSTART:20260428T170000
DTEND:20260428T170000
LOCATION:Tarnogórskie Centrum Kultury Jana III Sobieskiego, 7  Tarnowskie Góry
TRANSP: OPAQUE
SEQUENCE:0
UID:
DTSTAMP:20260421T092649Z
SUMMARY:Klub Przedsiębiorczych Mam Tarnowskie Góry - 28.04.2026
DESCRIPTION:🔹 Cały dochód ze sprzedaży wejściówek-cegiełek zostanie przeznaczony na rozwój Klubu Przedsiębiorczych Mam, by wspierać kolejne Kobiety, które pragną łączyć pracę z......
URL:https://app.evenea.pl/event/kpmtarnowskiegory202604/
PRIORITY:1
CLASS:PUBLIC
END:VEVENT
END:VCALENDAR
