BEGIN:VCALENDAR
VERSION:2.0
METHOD:PUBLISH
BEGIN:VEVENT
DTSTART:20220322T180000
DTEND:20220322T180000
LOCATION:Książnica Pomorska Podgórna 15/16  Szczecin
TRANSP: OPAQUE
SEQUENCE:0
UID:
DTSTAMP:20260423T040308Z
SUMMARY:Otwarta społeczność: Żeglarskie kto jest kim: Wojciech Jacobson
DESCRIPTION:Zapraszamy na spotkanie w cyklu "Otwarta Społeczność" wokół książki Kazimierza Robaka "Żeglarskie kto jest kim: Wojciech Jacobson"Goście spotkania:kpt. Wojciech JacobsonZbigniew......
URL:https://app.evenea.pl/event/kptjacobson/
PRIORITY:1
CLASS:PUBLIC
END:VEVENT
END:VCALENDAR
