BEGIN:VCALENDAR
VERSION:2.0
METHOD:PUBLISH
BEGIN:VEVENT
DTSTART:20240128T153000
DTEND:20240128T170000
LOCATION:Krakowskie Przedmieście ul. Krakowskie Przedmieście  Warszawa
TRANSP: OPAQUE
SEQUENCE:0
UID:
DTSTAMP:20260422T103120Z
SUMMARY:Romantyczny spacer po Krakowskim Przedmieściu - niedziela 28 stycznia 2024
DESCRIPTION:Opis wydarzenia jest dostępny na stronie: http://www.wesolespacerypowarszawie.pl/romantyczny-spacer-po-krakowskim-przedmiesciu/Aby zapisać się na ten spacer należy wybrać liczbę miejsc, po......
URL:https://app.evenea.pl/event/krakowskie/
PRIORITY:1
CLASS:PUBLIC
END:VEVENT
END:VCALENDAR
