BEGIN:VCALENDAR
VERSION:2.0
METHOD:PUBLISH
BEGIN:VEVENT
DTSTART:20260422T100000
DTEND:20260422T100000
LOCATION:Centrum Kreatywności Targowa Targowa 56  Warszawa
TRANSP: OPAQUE
SEQUENCE:0
UID:
DTSTAMP:20260420T091108Z
SUMMARY:Kreatywność w biznesie - MEETUP#10
DESCRIPTION:MEETUP #8 — Kreatywność w biznesieMEETUP #10Kreatywność w biznesie - jak zmonetyzować swój talentPowitanie i inauguracja 4 edycji programu Warsaw Creative SlamEwa Janus-Khouri, Dyrektorka......
URL:https://app.evenea.pl/event/kreatywnoscwbiznesie10/
PRIORITY:1
CLASS:PUBLIC
END:VEVENT
END:VCALENDAR
