BEGIN:VCALENDAR
VERSION:2.0
METHOD:PUBLISH
BEGIN:VEVENT
DTSTART:20221118T180000
DTEND:20221118T180000
LOCATION:   
TRANSP: OPAQUE
SEQUENCE:0
UID:
DTSTAMP:20260421T175201Z
SUMMARY:Kreatywnie w biznesie- wydarzenie edukacyjno-networkingowe dla osób z branż kreatywnych
DESCRIPTION:Nie zwalniamy tempa i zapraszamy już na trzecie wydarzenie z cyklu Kreatywnie w biznesie. Podczas jego trwania będzie możliwość poznać osoby z branż kreatywnych, nauczyć się odpowiednio......
URL:https://app.evenea.pl/event/kreatywnybiznes3/
PRIORITY:1
CLASS:PUBLIC
END:VEVENT
END:VCALENDAR
