BEGIN:VCALENDAR
VERSION:2.0
METHOD:PUBLISH
BEGIN:VEVENT
DTSTART:20240902T000000
DTEND:20240915T235900
LOCATION:Fundacja IB Polska   Kraków
TRANSP: OPAQUE
SEQUENCE:0
UID:
DTSTAMP:20260423T210345Z
SUMMARY:Rozzieleńmy się! - Najbardziej kreatywny bukiet
DESCRIPTION:Najbardziej kreatywny bukiet/rzeźba z kwiatów Zespół będzie oceniał bukiet/rzeźbę pod kątem użytych materiałów, pomysłowości, niekonwencjonalnego podejścia i estetyki. Termin......
URL:https://app.evenea.pl/event/kreatywnybukiet/
PRIORITY:1
CLASS:PUBLIC
END:VEVENT
END:VCALENDAR
