BEGIN:VCALENDAR
VERSION:2.0
METHOD:PUBLISH
BEGIN:VEVENT
DTSTART:20241030T173000
DTEND:20241030T200000
LOCATION:Four Suits Technology Fabryczna 1  Kraków
TRANSP: OPAQUE
SEQUENCE:0
UID:
DTSTAMP:20260422T231440Z
SUMMARY:KRK Sport & Game Tech Meetup #3! 🎮
DESCRIPTION:🎮 KRK Sport &amp; Game Tech Meetup #3: October 30th 17:30 🚀📍 Location: Four Suits Technology, Fabryczna 1, 31-553 Kraków (5th floor) 🕔 When: 17:30 - 19:30👾 About the event:Join us......
URL:https://app.evenea.pl/event/krk-sport-game-vol3/
PRIORITY:1
CLASS:PUBLIC
END:VEVENT
END:VCALENDAR
