BEGIN:VCALENDAR
VERSION:2.0
METHOD:PUBLISH
BEGIN:VEVENT
DTSTART:20250326T173000
DTEND:20250326T200000
LOCATION:Four Suits Technology Fabryczna 1  Kraków
TRANSP: OPAQUE
SEQUENCE:0
UID:
DTSTAMP:20260422T215737Z
SUMMARY:KRK Sport & Game Tech Meetup #4! 🎮
DESCRIPTION:🎮 KRK Sport &amp; Game Tech Meetup #4: March 26th 17:30 🚀📍 Location: Four Suits Technology, Fabryczna 1, 31-553 Kraków🕔 When: 17:30 - 19:30👾 About the event:Join us at Four Suits......
URL:https://app.evenea.pl/event/krk-sport-game-vol4/
PRIORITY:1
CLASS:PUBLIC
END:VEVENT
END:VCALENDAR
