BEGIN:VCALENDAR
VERSION:2.0
METHOD:PUBLISH
BEGIN:VEVENT
DTSTART:20200206T180000
DTEND:20200206T180000
LOCATION:Grand Parade Kotlarska 11  Kraków
TRANSP: OPAQUE
SEQUENCE:0
UID:
DTSTAMP:20260421T115826Z
SUMMARY:Design Blueprints - Krakow IT Architects community meetup #2
DESCRIPTION:The second meetup organised by Krakow IT Architects!Please reserve a ticket and wait for confirmation from us with more details about the meetup.What does good look like in IT Architecture? How and......
URL:https://app.evenea.pl/event/krkitarchitects2/
PRIORITY:1
CLASS:PUBLIC
END:VEVENT
END:VCALENDAR
