BEGIN:VCALENDAR
VERSION:2.0
METHOD:PUBLISH
BEGIN:VEVENT
DTSTART:20210706T170000
DTEND:20210706T170000
LOCATION:   
TRANSP: OPAQUE
SEQUENCE:0
UID:
DTSTAMP:20260419T150047Z
SUMMARY:Kryminalny spacer
DESCRIPTION:6 lipca (wtorek) zapraszamy na kryminalny spacer po Szczecinie. Spotykamy się pod Komendą Wojewódzką Policji (ul. Małopolska 47) o godz. 17.00. Spacer będzie przebiegał śladami......
URL:https://app.evenea.pl/event/kryminalnyspacer/
PRIORITY:1
CLASS:PUBLIC
END:VEVENT
END:VCALENDAR
