BEGIN:VCALENDAR
VERSION:2.0
METHOD:PUBLISH
BEGIN:VEVENT
DTSTART:20251210T110000
DTEND:20251210T110000
LOCATION:Cech Rzemiosł Różnych w Nowym Sączu ul. Rynek 11/1  Nowy Sącz
TRANSP: OPAQUE
SEQUENCE:0
UID:
DTSTAMP:20260419T161940Z
SUMMARY:Bądź Gotowy na KSeF z OSCBR i ROMIR - szkolenie NOWY SĄCZ
DESCRIPTION:Krajowy System e-Faktur (KSeF) w Polsce stał się rzeczywistością 🔔 i od 2026 roku będzie dotyczył wszystkich przedsiębiorców, którzy wystawiają lub odbierają faktury od......
URL:https://app.evenea.pl/event/ksefoscbr-nowysacz/
PRIORITY:1
CLASS:PUBLIC
END:VEVENT
END:VCALENDAR
