BEGIN:VCALENDAR
VERSION:2.0
METHOD:PUBLISH
BEGIN:VEVENT
DTSTART:20240917T163000
DTEND:20240917T183000
LOCATION:Książnica Pomorska Podgórna 15/16  Szczecin
TRANSP: OPAQUE
SEQUENCE:0
UID:
DTSTAMP:20260424T043235Z
SUMMARY:Książkowa Paleta: Wrześniowy cykl książek “Misia i jej mali pacjenci" + warsztaty plastyczne “Misia i My - Kreatywna Okładka"
DESCRIPTION:Zapraszamy dzieci na wrześniowe warsztaty "Książkowa Paleta" w Książnicy Pomorskiej! Tym razem przeniesiemy się do uroczej krainy z serii książek "Misia i jej mali pacjenci" autorstwa......
URL:https://app.evenea.pl/event/ksiazkowapaleta2/
PRIORITY:1
CLASS:PUBLIC
END:VEVENT
END:VCALENDAR
