BEGIN:VCALENDAR
VERSION:2.0
METHOD:PUBLISH
BEGIN:VEVENT
DTSTART:20260511T170000
DTEND:20260511T180000
LOCATION:Biblioteka Publiczna w Piasecznie Jana Pawła II 55  Piaseczno
TRANSP: OPAQUE
SEQUENCE:0
UID:
DTSTAMP:20260420T145729Z
SUMMARY:Książkowe Frykasy
DESCRIPTION:Zapraszamy dzieci w wieku 9 - 13 lat na cykl warsztatów kulinarnych.Będzie smacznie, zdrowo, kolorowo.Spotkanie odbędzie się 11.05.2026 o godz. 17:00. Koszt 25 zł. Liczba miejsc......
URL:https://app.evenea.pl/event/ksiazkowefrykasymaj/
PRIORITY:1
CLASS:PUBLIC
END:VEVENT
END:VCALENDAR
