BEGIN:VCALENDAR
VERSION:2.0
METHOD:PUBLISH
BEGIN:VEVENT
DTSTART:20210426T160000
DTEND:20210426T160000
LOCATION:online   
TRANSP: OPAQUE
SEQUENCE:0
UID:
DTSTAMP:20260422T175251Z
SUMMARY:Księgowość i podatki z ABAK S.A. - konsultacje indywidualne online
DESCRIPTION:Konsultacji udzielać będzie ekspert - Grażyna Sałek z ABAK S.A. Grażyna Sałek - od 1995 r. prowadzi Biuro Rachunkowe. W 2017 jej firma została przejęta przez Abak S.A. Od tego momentu......
URL:https://app.evenea.pl/event/ksiegowoscipodatkizabak/
PRIORITY:1
CLASS:PUBLIC
END:VEVENT
END:VCALENDAR
