BEGIN:VCALENDAR
VERSION:2.0
METHOD:PUBLISH
BEGIN:VEVENT
DTSTART:20220120T093000
DTEND:20220121T180000
LOCATION:Centrum konferencyjne Golden Floor Al. Jerozolimskie 123 A  Warszawa
TRANSP: OPAQUE
SEQUENCE:0
UID:
DTSTAMP:20260419T141150Z
SUMMARY:Kurs Skutecznego Zarządzania Praktyką i zespołem stomatologicznym
DESCRIPTION:POZNAJ BARDZO SKUTECZNY, SPRAWDZONY PRZEZ WIELU WŁAŚCICIELI GABINETÓW, SYSTEM KLUCZOWYCH KOMPETENCJI POTRZEBNYCH DO PROFESJONALNEGO ZARZĄDZANIA PRAKTYKĄTo BARDZO PRAKTYCZNY model......
URL:https://app.evenea.pl/event/ksz12022/
PRIORITY:1
CLASS:PUBLIC
END:VEVENT
END:VCALENDAR
