BEGIN:VCALENDAR
VERSION:2.0
METHOD:PUBLISH
BEGIN:VEVENT
DTSTART:20210916T183000
DTEND:20210916T183000
LOCATION:Siedziba BCC Warszawa, I piętro, Warszawa Pl.Żelaznej Bramy 10  WARSZAWA
TRANSP: OPAQUE
SEQUENCE:0
UID:
DTSTAMP:20260420T223628Z
SUMMARY:Dyskusje BCC - KTO PYTA, TEN RZĄDZI!
DESCRIPTION:KTO PYTA, TEN RZĄDZI! to cykl ekskluzywnych spotkań z winem w tle, którego nadrzędnym celem jest rozbudzenie intelektualne, zainspirowanie do dogłębnego przeanalizowania rzeczy, którym na co......
URL:https://app.evenea.pl/event/ktopyta-tenrzadzi/
PRIORITY:1
CLASS:PUBLIC
END:VEVENT
END:VCALENDAR
