BEGIN:VCALENDAR
VERSION:2.0
METHOD:PUBLISH
BEGIN:VEVENT
DTSTART:20210819T183000
DTEND:20210819T183000
LOCATION:Pałac Lubomirskich, Siedziba BCC Plac Żelaznej Bramy 10  Warszawa
TRANSP: OPAQUE
SEQUENCE:0
UID:
DTSTAMP:20260420T223601Z
SUMMARY:Dyskusje BCC - KTO PYTA, TEN RZĄDZI!
DESCRIPTION:To nowy cykl ekskluzywnych spotkań z winem w tle, którego nadrzędnym celem jest rozbudzenie intelektualne, zainspirowanie do dogłębnego przeanalizowania rzeczy, którym na co dzień nie......
URL:https://app.evenea.pl/event/ktopytatenrzadzi/
PRIORITY:1
CLASS:PUBLIC
END:VEVENT
END:VCALENDAR
