BEGIN:VCALENDAR
VERSION:2.0
METHOD:PUBLISH
BEGIN:VEVENT
DTSTART:20251215T190000
DTEND:20251215T190000
LOCATION:ONLINE   
TRANSP: OPAQUE
SEQUENCE:0
UID:
DTSTAMP:20260419T150039Z
SUMMARY:Webinar: Kto wybiera szkołę - rodzic czy uczeń? | 15 grudnia | 19.00
DESCRIPTION:Kto wybiera szkołę - rodzic czy uczeń? To pytanie może pojawić się w niemal każdym domu, w którym dojrzewa ósmoklasista. Dlatego zapraszamy na webinar, podczas którego porozmawiamy o tym,......
URL:https://app.evenea.pl/event/ktowybieraszkole/
PRIORITY:1
CLASS:PUBLIC
END:VEVENT
END:VCALENDAR
