BEGIN:VCALENDAR
VERSION:2.0
METHOD:PUBLISH
BEGIN:VEVENT
DTSTART:20260314T110000
DTEND:20260314T110000
LOCATION:Miejsce Aktywności Lokalnej Szerokie Możliwości ul. Nałęczowska 175  Lublin
TRANSP: OPAQUE
SEQUENCE:0
UID:
DTSTAMP:20260419T172950Z
SUMMARY:Warsztaty kulinarne
DESCRIPTION:Zapraszamy na warsztaty kulinarne, podczas których wspólnie przygotujemy tradycyjnego gryczaka. To okazja do poznania prostego przepisu, wspólnego gotowania i rozmów o lokalnych smakach. Na......
URL:https://app.evenea.pl/event/kulinarnemal/
PRIORITY:1
CLASS:PUBLIC
END:VEVENT
END:VCALENDAR
