BEGIN:VCALENDAR
VERSION:2.0
METHOD:PUBLISH
BEGIN:VEVENT
DTSTART:20200912T083000
DTEND:20200920T170000
LOCATION:Kielce Tarnowska  Kielce
TRANSP: OPAQUE
SEQUENCE:0
UID:
DTSTAMP:20260426T062212Z
SUMMARY:Mediacje - certyfikowane szkolenie - mediator sądowy i pozasądowy
DESCRIPTION:Szkolenie: mediacje - kwalifikacje zawodowe - "Mediator sądowy i pozasądowy" Certyfikowane szkolenie: mediacje przygotowujące do wykonywania zawodu mediatora sądowego i pozasądowego. 🧿......
URL:https://app.evenea.pl/event/kurs-mediacje-kielce/
PRIORITY:1
CLASS:PUBLIC
END:VEVENT
END:VCALENDAR
