BEGIN:VCALENDAR
VERSION:2.0
METHOD:PUBLISH
BEGIN:VEVENT
DTSTART:20210705T090000
DTEND:20210709T150000
LOCATION:Warszawa Online  Warszawa
TRANSP: OPAQUE
SEQUENCE:0
UID:
DTSTAMP:20260426T045448Z
SUMMARY:Certyfikowany Kurs Online: Zostań Praktykiem Design Thinking!
DESCRIPTION:Kurs Moderatora Design Thinking - szkolenie online:Zdobądź niezwykle przydatne w dzisiejszych czasach kompetencje Moderatora Design Thinking. Poznaj proces, narzędzia i sposób myślenia, który......
URL:https://app.evenea.pl/event/kursmoderatoradesignthinkingczerwiec2021/
PRIORITY:1
CLASS:PUBLIC
END:VEVENT
END:VCALENDAR
