BEGIN:VCALENDAR
VERSION:2.0
METHOD:PUBLISH
BEGIN:VEVENT
DTSTART:20240518T110000
DTEND:20240518T110000
LOCATION:Filia nr 7 Miejskiej Biblioteki Publicznej w Szczecinie plac Matki Teresy z Kalkuty 8  Szczecin
TRANSP: OPAQUE
SEQUENCE:0
UID:
DTSTAMP:20260420T032936Z
SUMMARY:"Jak dobrze polecać?" Warsztaty pisania recenzji [Menu literackie]
DESCRIPTION:18 maja (sb.) o godz. 11:00 w fili nr 7 (pl. Matki Teresy z Kalkuty 8) rozpoczną się warsztaty pisania recenzji książkowych. Poprowadzi je Olga Wróbel — twórczyni bloga Kurzojady. Udział w......
URL:https://app.evenea.pl/event/kurzojady/
PRIORITY:1
CLASS:PUBLIC
END:VEVENT
END:VCALENDAR
