BEGIN:VCALENDAR
VERSION:2.0
METHOD:PUBLISH
BEGIN:VEVENT
DTSTART:20210601T080000
DTEND:20210630T160000
LOCATION:Badanie online Dostęp zdalny  Dla uczestników
TRANSP: OPAQUE
SEQUENCE:0
UID:
DTSTAMP:20260422T080421Z
SUMMARY:Bezpłatne kwestionariusze zainteresowań zawodowych
DESCRIPTION:Bydgoska Agencja Rozwoju Regionalnego oraz Wojewódzki Urząd Pracy, Centrum Informacji i Planowania Kariery Zawodowej w Bydgoszczy zapraszają osoby pełnoletnie do wykonania bezpłatnych......
URL:https://app.evenea.pl/event/kwestionariusze-czerwiec/
PRIORITY:1
CLASS:PUBLIC
END:VEVENT
END:VCALENDAR
