BEGIN:VCALENDAR
VERSION:2.0
METHOD:PUBLISH
BEGIN:VEVENT
DTSTART:20250828T090000
DTEND:20250828T090000
LOCATION:Centralny Dom Technologii Krucza 50  Warszawa
TRANSP: OPAQUE
SEQUENCE:0
UID:
DTSTAMP:20260421T014459Z
SUMMARY:KZDiM: Kongres Zdrowia Dzieci i Młodzieży 2025
DESCRIPTION:III Kongres Zdrowia Dzieci i Młodzieży\n\nIII Kongres Zdrowia Dzieci i Młodzieży odbędzie się pod hasłem: "Młoda Zdrowa Polska".Zdrowa przyszłość zaczyna się od rodziny, szkoły, diety,......
URL:https://app.evenea.pl/event/kzdim2025/
PRIORITY:1
CLASS:PUBLIC
END:VEVENT
END:VCALENDAR
