BEGIN:VCALENDAR
VERSION:2.0
METHOD:PUBLISH
BEGIN:VEVENT
DTSTART:20251204T090000
DTEND:20251204T090000
LOCATION:Centrum Dydaktyczne WUM Księcia Trojdena 2A  Warszawa
TRANSP: OPAQUE
SEQUENCE:0
UID:
DTSTAMP:20260419T135924Z
SUMMARY:Kongres Zdrowia Publicznego 2025
DESCRIPTION:XII Kongres Zdrowia Publicznego odbędzie się 4 grudnia 2025 r. w Centrum Dydaktycznym Warszawskiego Uniwersytetu Medycznego.To jedno z najważniejszych wydarzeń naukowych i edukacyjnych w......
URL:https://app.evenea.pl/event/kzp2025/
PRIORITY:1
CLASS:PUBLIC
END:VEVENT
END:VCALENDAR
