BEGIN:VCALENDAR
VERSION:2.0
METHOD:PUBLISH
BEGIN:VEVENT
DTSTART:20221123T123000
DTEND:20221124T143000
LOCATION:Wydział Ekonomii, Finansów i Zarządzania Uniwersytetu Szczecińskiego Cukrowa 8  Szczecin
TRANSP: OPAQUE
SEQUENCE:0
UID:
DTSTAMP:20260421T152331Z
SUMMARY:Konferencja Naukowa "Zarządzanie Innowacjami w Gospodarce" oraz Konferencja Naukowa "Economy, Management, Environment"
DESCRIPTION:Celem VII Ogólnopolskiej Konferencji "Zarządzanie innowacjami w gospodarce" jest prezentacja współczesnych trendów i perspektyw rozwoju w zakresie zarządzania innowacjami na tle wyzwań......
URL:https://app.evenea.pl/event/kzpkonferencja/
PRIORITY:1
CLASS:PUBLIC
END:VEVENT
END:VCALENDAR
