BEGIN:VCALENDAR
VERSION:2.0
METHOD:PUBLISH
BEGIN:VEVENT
DTSTART:20231202T130000
DTEND:20231208T210000
LOCATION:Hackerspace Trójmiasto Aleja Wojska Polskiego 41  Gdańsk
TRANSP: OPAQUE
SEQUENCE:0
UID:
DTSTAMP:20260422T023215Z
SUMMARY:Świecące łańcuchy, czyli wstęp do mikrokontrolerów i programowalnych LED WS2812B
DESCRIPTION:Wydarzenie przygotowaliśmy w 2 różnych terminach i godzinach, tak, aby można było wybrać ten lepiej pasujący. Podczas obu wydarzeń będzie realizowany ten sam program.Termin 1: 02.12.2023......
URL:https://app.evenea.pl/event/lancuchy-swietlne/
PRIORITY:1
CLASS:PUBLIC
END:VEVENT
END:VCALENDAR
